BEGIN:VCALENDAR
VERSION:2.0
PRODID:-//Ville de L&#039;Épine, Ile de Noirmoutier - ECPv6.15.20//NONSGML v1.0//EN
CALSCALE:GREGORIAN
METHOD:PUBLISH
X-WR-CALNAME:Ville de L&#039;Épine, Ile de Noirmoutier
X-ORIGINAL-URL:https://www.lepine-iledenoirmoutier.fr
X-WR-CALDESC:Évènements pour Ville de L&#039;Épine, Ile de Noirmoutier
REFRESH-INTERVAL;VALUE=DURATION:PT1H
X-Robots-Tag:noindex
X-PUBLISHED-TTL:PT1H
BEGIN:VTIMEZONE
TZID:Europe/Paris
BEGIN:DAYLIGHT
TZOFFSETFROM:+0100
TZOFFSETTO:+0200
TZNAME:CEST
DTSTART:20250330T010000
END:DAYLIGHT
BEGIN:STANDARD
TZOFFSETFROM:+0200
TZOFFSETTO:+0100
TZNAME:CET
DTSTART:20251026T010000
END:STANDARD
BEGIN:DAYLIGHT
TZOFFSETFROM:+0100
TZOFFSETTO:+0200
TZNAME:CEST
DTSTART:20260329T010000
END:DAYLIGHT
BEGIN:STANDARD
TZOFFSETFROM:+0200
TZOFFSETTO:+0100
TZNAME:CET
DTSTART:20261025T010000
END:STANDARD
BEGIN:DAYLIGHT
TZOFFSETFROM:+0100
TZOFFSETTO:+0200
TZNAME:CEST
DTSTART:20270328T010000
END:DAYLIGHT
BEGIN:STANDARD
TZOFFSETFROM:+0200
TZOFFSETTO:+0100
TZNAME:CET
DTSTART:20271031T010000
END:STANDARD
END:VTIMEZONE
BEGIN:VEVENT
DTSTART;TZID=Europe/Paris:20260421T170000
DTEND;TZID=Europe/Paris:20260421T190000
DTSTAMP:20260420T005715
CREATED:20260414T123515Z
LAST-MODIFIED:20260414T152236Z
UID:901-1776790800-1776798000@www.lepine-iledenoirmoutier.fr
SUMMARY:Troc’Cyclerie
DESCRIPTION:La Communauté de Communes de l’Ile de Noirmoutier a le plaisir de vous inviter à la prochaine Troc’Cyclerie qui aura lieu : \nMardi 21 avril\, de 17h – 19h\nCet événement se déroulera sur le site de la déchetterie\, rue de la Version à la Guérinière (derrière Intermarché). La Troc’Cyclerie permet d’offrir une seconde vie aux objets qui nous encombrent tout en faisant un geste pour la planète. Le principe : 1 objet apporté = 1 objet échangé ; 2 objets apportés  = 2 objets échangés\, dans la limite de 3 objets. \n3 raisons de participer à la Troc’Cyclerie : \n\nDésencombrer sa maison\nDonner une seconde vie aux objets\nS’offrir de nouvelles choses gratuitement\n\n 
URL:https://www.lepine-iledenoirmoutier.fr/event/troccyclerie/
CATEGORIES:manifestation
ATTACH;FMTTYPE=image/jpeg:https://www.lepine-iledenoirmoutier.fr/wp-content/uploads/2026/04/Affiche-TrocCyclerie--scaled.jpg
END:VEVENT
BEGIN:VEVENT
DTSTART;TZID=Europe/Paris:20260424T204500
DTEND;TZID=Europe/Paris:20260424T220000
DTSTAMP:20260420T005715
CREATED:20260127T132202Z
LAST-MODIFIED:20260127T132202Z
UID:126-1777063500-1777068000@www.lepine-iledenoirmoutier.fr
SUMMARY:Soirée A VOS PAROLES !
DESCRIPTION:Le 24 avril à La Salangane : \nVenez deviner en équipe les paroles de chansons françaises très connues\, des surprises et de la bonne ambiance vous attendent pour cette soirée 100% gratuite et FUN ! \nJeu basé sur le jeu télévisé « N’oubliez pas les paroles » 
URL:https://www.lepine-iledenoirmoutier.fr/event/soiree-a-vos-paroles/
CATEGORIES:Animation,Chanson
ATTACH;FMTTYPE=image/png:https://www.lepine-iledenoirmoutier.fr/wp-content/uploads/2026/01/Affiche-hiver-printemps-A3-1.png
END:VEVENT
BEGIN:VEVENT
DTSTART;TZID=Europe/Paris:20260509T160000
DTEND;TZID=Europe/Paris:20260509T210000
DTSTAMP:20260420T005715
CREATED:20260414T141351Z
LAST-MODIFIED:20260414T141352Z
UID:907-1778342400-1778360400@www.lepine-iledenoirmoutier.fr
SUMMARY:Marée Electronique - L'Épine
DESCRIPTION:Rendez-vous au Port de Morin pour votre nouvelle édition de la Marée Electronique. Un moment festif où musique électronique et convivialité se rencontrent dans un cadre d’exception.\nSur place : food trucks locaux\, bar et espace d’animations\, le tout dans une ambiance électro et chaleureuse. \nPort de Morin – 16H à 21H \nGratuit sans inscription \nRenseignements : 02 51 39 19 18 ou general@luzeproduction.fr
URL:https://www.lepine-iledenoirmoutier.fr/event/maree-electronique-lepine/
LOCATION:Port de Morin
CATEGORIES:Animation
ATTACH;FMTTYPE=image/jpeg:https://www.lepine-iledenoirmoutier.fr/wp-content/uploads/2026/04/VF_LEPINE_AFFICHE_A3_MAREEELECTRONIQUE_2026-scaled.jpg
END:VEVENT
BEGIN:VEVENT
DTSTART;TZID=Europe/Paris:20260511T183000
DTEND;TZID=Europe/Paris:20260511T200000
DTSTAMP:20260420T005715
CREATED:20260416T111057Z
LAST-MODIFIED:20260416T111057Z
UID:917-1778524200-1778529600@www.lepine-iledenoirmoutier.fr
SUMMARY:Inscription - Référents de Quartier !
DESCRIPTION:Devenez les “yeux et les oreilles” de votre quartier (sans espionner\, promis) \n📢 Nous recherchons des référents de quartier ! \nEnvie de vous engager près de chez vous ?\nSoyez le lien entre les habitants et la commune : \n– À l’écoute des voisins\n– Remonter les petits soucis du quotidien (voirie\, sécurité…)\n– Veiller au lien social et aux personnes isolées\n– Contribuer à améliorer la vie du quartier \nUn rôle utile\, concret… et humain ! \nRendez-vous le 11 mai à 18H30 à La Salangane pour vous inscrire.
URL:https://www.lepine-iledenoirmoutier.fr/event/inscription-referents-de-quartier/
CATEGORIES:entraide,Reunion
ATTACH;FMTTYPE=image/png:https://www.lepine-iledenoirmoutier.fr/wp-content/uploads/2026/04/Affiche-hiver-printemps-A3.png
END:VEVENT
END:VCALENDAR